BEGIN:VCALENDAR
VERSION:2.0
PRODID:-//wp-events-plugin.com//7.2.3.1//EN
BEGIN:VEVENT
UID:94@gimnasioingles.edu.co
DTSTART;TZID=America/Bogota:20241022T073000
DTEND;TZID=America/Bogota:20241022T093000
DTSTAMP:20240910T195448Z
URL:https://gimnasioingles.edu.co/events/11th-grade-parents-workshop-talle
 r-de-padres-grado-11/
SUMMARY:11th grade parents' workshop / Taller de padres grado 11
DESCRIPTION:
CATEGORIES:Secondary
END:VEVENT
BEGIN:VTIMEZONE
TZID:America/Bogota
X-LIC-LOCATION:America/Bogota
BEGIN:STANDARD
DTSTART:20231023T073000
TZOFFSETFROM:-0500
TZOFFSETTO:-0500
TZNAME:-05
END:STANDARD
END:VTIMEZONE
END:VCALENDAR