BEGIN:VCALENDAR
VERSION:2.0
PRODID:-//wp-events-plugin.com//7.2.3.1//EN
BEGIN:VEVENT
UID:79@gimnasioingles.edu.co
DTSTART;TZID=America/Bogota:20250311T000000
DTEND;TZID=America/Bogota:20250315T000000
DTSTAMP:20240903T180400Z
URL:https://gimnasioingles.edu.co/events/binational-games-in-granadino-sch
 ool-juegos-binacionales-en-el-colegio-granadino/
SUMMARY:Binational Games in Granadino school (Manizales) / Juegos binaciona
 les en el colegio Granadino (Manizales)
DESCRIPTION:
CATEGORIES:Sports
END:VEVENT
BEGIN:VTIMEZONE
TZID:America/Bogota
X-LIC-LOCATION:America/Bogota
BEGIN:STANDARD
DTSTART:20240311T000000
TZOFFSETFROM:-0500
TZOFFSETTO:-0500
TZNAME:-05
END:STANDARD
END:VTIMEZONE
END:VCALENDAR