BEGIN:VCALENDAR
VERSION:2.0
PRODID:-//wp-events-plugin.com//7.2.3.1//EN
BEGIN:VEVENT
UID:30@gimnasioingles.edu.co
DTSTART;TZID=America/Bogota:20250328T070000
DTEND;TZID=America/Bogota:20250328T143000
DTSTAMP:20240903T160712Z
URL:https://gimnasioingles.edu.co/events/conference-day-entrega-de-reporte
 s-2/
SUMMARY:Conference day / Entrega de reportes
DESCRIPTION:
CATEGORIES:General
END:VEVENT
BEGIN:VTIMEZONE
TZID:America/Bogota
X-LIC-LOCATION:America/Bogota
BEGIN:STANDARD
DTSTART:20240328T070000
TZOFFSETFROM:-0500
TZOFFSETTO:-0500
TZNAME:-05
END:STANDARD
END:VTIMEZONE
END:VCALENDAR