BEGIN:VCALENDAR
VERSION:2.0
PRODID:-//wp-events-plugin.com//7.2.3.1//EN
BEGIN:VEVENT
UID:82@gimnasioingles.edu.co
DTSTART;TZID=America/Bogota;VALUE=DATE:20250515
DTEND;TZID=America/Bogota;VALUE=DATE:20250518
DTSTAMP:20240903T174944Z
URL:https://gimnasioingles.edu.co/events/elementary-school-soccer-festival
 -festival-de-futbol-de-primaria/
SUMMARY:Elementary School Soccer Festival / Festival de fútbol de primaria
DESCRIPTION:
CATEGORIES:Sports
END:VEVENT
BEGIN:VTIMEZONE
TZID:America/Bogota
X-LIC-LOCATION:America/Bogota
BEGIN:STANDARD
DTSTART:20240515T000000
TZOFFSETFROM:-0500
TZOFFSETTO:-0500
TZNAME:-05
END:STANDARD
END:VTIMEZONE
END:VCALENDAR