BEGIN:VCALENDAR
VERSION:2.0
PRODID:-//wp-events-plugin.com//7.2.3.1//EN
BEGIN:VEVENT
UID:29@gimnasioingles.edu.co
DTSTART;TZID=America/Bogota;VALUE=DATE:20250324
DTEND;TZID=America/Bogota;VALUE=DATE:20250325
DTSTAMP:20240903T155011Z
URL:https://gimnasioingles.edu.co/events/holiday-festivo-4/
SUMMARY:Holiday / Festivo
DESCRIPTION:
CATEGORIES:Holidays and days off
END:VEVENT
BEGIN:VTIMEZONE
TZID:America/Bogota
X-LIC-LOCATION:America/Bogota
BEGIN:STANDARD
DTSTART:20240324T000000
TZOFFSETFROM:-0500
TZOFFSETTO:-0500
TZNAME:-05
END:STANDARD
END:VTIMEZONE
END:VCALENDAR