BEGIN:VCALENDAR
VERSION:2.0
PRODID:-//wp-events-plugin.com//7.2.3.1//EN
BEGIN:VEVENT
UID:66@gimnasioingles.edu.co
DTSTART;TZID=America/Bogota;VALUE=DATE:20240920
DTEND;TZID=America/Bogota;VALUE=DATE:20240921
DTSTAMP:20240902T204458Z
URL:https://gimnasioingles.edu.co/events/love-and-friendship-day-dia-del-a
 mor-y-la-amistad/
SUMMARY:Love and Friendship Day / Día del amor y la amistad
DESCRIPTION:
CATEGORIES:General
END:VEVENT
BEGIN:VTIMEZONE
TZID:America/Bogota
X-LIC-LOCATION:America/Bogota
BEGIN:STANDARD
DTSTART:20230921T000000
TZOFFSETFROM:-0500
TZOFFSETTO:-0500
TZNAME:-05
END:STANDARD
END:VTIMEZONE
END:VCALENDAR