BEGIN:VCALENDAR
VERSION:2.0
PRODID:-//wp-events-plugin.com//7.2.3.1//EN
BEGIN:VEVENT
UID:38@gimnasioingles.edu.co
DTSTART;TZID=America/Bogota;VALUE=DATE:20250701
DTEND;TZID=America/Bogota;VALUE=DATE:20250705
DTSTAMP:20240903T162016Z
URL:https://gimnasioingles.edu.co/events/matriculas/
SUMMARY:Student registrations / Matrículas de estudiantes
DESCRIPTION:
CATEGORIES:General
END:VEVENT
BEGIN:VTIMEZONE
TZID:America/Bogota
X-LIC-LOCATION:America/Bogota
BEGIN:STANDARD
DTSTART:20240701T000000
TZOFFSETFROM:-0500
TZOFFSETTO:-0500
TZNAME:-05
END:STANDARD
END:VTIMEZONE
END:VCALENDAR