BEGIN:VCALENDAR
VERSION:2.0
PRODID:-//wp-events-plugin.com//7.2.3.1//EN
BEGIN:VEVENT
UID:156@gimnasioingles.edu.co
DTSTART;TZID=America/Bogota:20250409T054500
DTEND;TZID=America/Bogota:20250410T084500
DTSTAMP:20250409T170555Z
URL:https://gimnasioingles.edu.co/events/musical-the-wizard-of-oz-musical-
 el-mago-de-oz/
SUMMARY:Musical The Wizard of Oz / Musical "El mago de Oz"
DESCRIPTION:
CATEGORIES:General
END:VEVENT
BEGIN:VTIMEZONE
TZID:America/Bogota
X-LIC-LOCATION:America/Bogota
BEGIN:STANDARD
DTSTART:20240409T054500
TZOFFSETFROM:-0500
TZOFFSETTO:-0500
TZNAME:-05
END:STANDARD
END:VTIMEZONE
END:VCALENDAR