BEGIN:VCALENDAR
VERSION:2.0
PRODID:-//wp-events-plugin.com//7.2.3.1//EN
BEGIN:VEVENT
UID:150@gimnasioingles.edu.co
DTSTART;TZID=America/Bogota:20250225T074500
DTEND;TZID=America/Bogota:20250225T093000
DTSTAMP:20250116T133734Z
URL:https://gimnasioingles.edu.co/events/p-e-c-e-s-4/
SUMMARY:P.E.C.E.S
DESCRIPTION:
CATEGORIES:Preschool
END:VEVENT
BEGIN:VTIMEZONE
TZID:America/Bogota
X-LIC-LOCATION:America/Bogota
BEGIN:STANDARD
DTSTART:20240226T074500
TZOFFSETFROM:-0500
TZOFFSETTO:-0500
TZNAME:-05
END:STANDARD
END:VTIMEZONE
END:VCALENDAR