BEGIN:VCALENDAR
VERSION:2.0
PRODID:-//wp-events-plugin.com//7.2.3.1//EN
BEGIN:VEVENT
UID:14@gimnasioingles.edu.co
DTSTART;TZID=America/Bogota:20240221T000000
DTEND;TZID=America/Bogota:20240221T000000
DTSTAMP:20240207T151305Z
URL:https://gimnasioingles.edu.co/events/padres-preescolar-2024-02-21/
SUMMARY:Padres preescolar
DESCRIPTION:
CATEGORIES:General
END:VEVENT
BEGIN:VTIMEZONE
TZID:America/Bogota
X-LIC-LOCATION:America/Bogota
BEGIN:STANDARD
DTSTART:20230221T000000
TZOFFSETFROM:-0500
TZOFFSETTO:-0500
TZNAME:-05
END:STANDARD
END:VTIMEZONE
END:VCALENDAR