BEGIN:VCALENDAR
VERSION:2.0
PRODID:-//wp-events-plugin.com//7.2.3.1//EN
BEGIN:VEVENT
UID:41@gimnasioingles.edu.co
DTSTART;TZID=America/Bogota;VALUE=DATE:20250414
DTEND;TZID=America/Bogota;VALUE=DATE:20250421
DTSTAMP:20250409T171547Z
URL:https://gimnasioingles.edu.co/events/spring-break-semana-santa/
SUMMARY:Spring Break - Semana Santa
DESCRIPTION:
CATEGORIES:Holidays and days off
END:VEVENT
BEGIN:VTIMEZONE
TZID:America/Bogota
X-LIC-LOCATION:America/Bogota
BEGIN:STANDARD
DTSTART:20240414T000000
TZOFFSETFROM:-0500
TZOFFSETTO:-0500
TZNAME:-05
END:STANDARD
END:VTIMEZONE
END:VCALENDAR